BEGIN:VCALENDAR
VERSION:2.0
PRODID:calendify.com
BEGIN:VEVENT
UID:calendify-session-q5D4xavkObG
DTSTART:20220609T114500Z
SEQUENCE:0
TRANSP:OPAQUE
DTEND:20220609T121500Z
URL:https://calendify.com/session/q5D4xavkObG
LOCATION:Lightning Box 2
SUMMARY:MAUERSPUREN – ein digitales Wissensportal der Stiftung Berliner M
 auer
CLASS:PUBLIC
DESCRIPTION:https://calendify.com/session/q5D4xavkObG
DTSTAMP:20260423T104732Z
CREATED:20220526T162948Z
LAST-MODIFIED:20220613T235204Z
END:VEVENT
END:VCALENDAR