BEGIN:VCALENDAR
VERSION:2.0
PRODID:calendify.com
BEGIN:VEVENT
UID:calendify-session-q5D4xenaObG
DTSTART:20191227T131000Z
SEQUENCE:0
TRANSP:OPAQUE
DTEND:20191227T141000Z
URL:https://calendify.com/session/q5D4xenaObG
LOCATION:Eliza
SUMMARY:phyphox: Using smartphone sensors for physics experiments
CLASS:PUBLIC
DESCRIPTION:https://calendify.com/session/q5D4xenaObG
DTSTAMP:20260421T064408Z
CREATED:20200429T014039Z
LAST-MODIFIED:20200429T014039Z
END:VEVENT
END:VCALENDAR