BEGIN:VCALENDAR
VERSION:2.0
PRODID:calendify.com
BEGIN:VEVENT
UID:calendify-session-q5D4xj0mMbG
DTSTART:20200202T103000Z
SEQUENCE:0
TRANSP:OPAQUE
DTEND:20200202T105500Z
URL:https://calendify.com/session/q5D4xj0mMbG
LOCATION:UB5.132
SUMMARY:Efficient Model Selection for Deep Neural Networks on Massively Par
 allel Processing Databases
CLASS:PUBLIC
DESCRIPTION:https://calendify.com/session/q5D4xj0mMbG
DTSTAMP:20260423T005130Z
CREATED:20200513T234735Z
LAST-MODIFIED:20210426T093310Z
END:VEVENT
END:VCALENDAR