BEGIN:VCALENDAR
VERSION:2.0
PRODID:calendify.com
BEGIN:VEVENT
UID:calendify-session-q5D4xjKjMbG
DTSTART:20200202T080000Z
SEQUENCE:0
TRANSP:OPAQUE
DTEND:20200202T082500Z
URL:https://calendify.com/session/q5D4xjKjMbG
LOCATION:UA2.114 (Baudoux)
SUMMARY:How Firefox upholds its values and keeps up with change
CLASS:PUBLIC
DESCRIPTION:https://calendify.com/session/q5D4xjKjMbG
DTSTAMP:20260424T015022Z
CREATED:20200513T234735Z
LAST-MODIFIED:20210426T093310Z
END:VEVENT
END:VCALENDAR