BEGIN:VCALENDAR
VERSION:2.0
PRODID:calendify.com
BEGIN:VEVENT
UID:calendify-session-q5D4xjNWMbG
DTSTART:20190530T220000Z
SEQUENCE:0
TRANSP:OPAQUE
DTEND:20190531T000000Z
URL:https://calendify.com/session/q5D4xjNWMbG
LOCATION:Lounge
SUMMARY:Project Poltergeist
CLASS:PUBLIC
DESCRIPTION:https://calendify.com/session/q5D4xjNWMbG
DTSTAMP:20260424T041016Z
CREATED:20200509T115057Z
LAST-MODIFIED:20200509T115057Z
END:VEVENT
END:VCALENDAR