BEGIN:VCALENDAR
VERSION:2.0
PRODID:calendify.com
BEGIN:VEVENT
UID:calendify-session-q5D4xpnW4bG
DTSTART:20230605T141500Z
SEQUENCE:0
TRANSP:OPAQUE
DTEND:20230605T151500Z
URL:https://calendify.com/session/q5D4xpnW4bG
LOCATION:Foyer
SUMMARY:Meinwohl\, Deinwohl – KI für das Gemeinwohl?
CLASS:PUBLIC
DESCRIPTION:https://calendify.com/session/q5D4xpnW4bG
DTSTAMP:20260422T224425Z
CREATED:20230604T163809Z
LAST-MODIFIED:20230606T124212Z
END:VEVENT
END:VCALENDAR