BEGIN:VCALENDAR
VERSION:2.0
PRODID:calendify.com
BEGIN:VEVENT
UID:calendify-session-q5D4xpqL4bG
DTSTART:20221229T194500Z
SEQUENCE:0
TRANSP:OPAQUE
DTEND:20221229T204500Z
URL:https://calendify.com/session/q5D4xpqL4bG
LOCATION:RTC-Bühne (Sparti)
SUMMARY:Exploring social media reactions to conflicts in 2022
CLASS:PUBLIC
DESCRIPTION:https://calendify.com/session/q5D4xpqL4bG
DTSTAMP:20260420T133117Z
CREATED:20221219T100105Z
LAST-MODIFIED:20221230T225004Z
END:VEVENT
END:VCALENDAR