BEGIN:VCALENDAR
VERSION:2.0
PRODID:calendify.com
BEGIN:VEVENT
UID:calendify-session-q5D4xprn4bG
DTSTART:20230609T160000Z
SEQUENCE:0
TRANSP:OPAQUE
DTEND:20230609T170000Z
URL:https://calendify.com/session/q5D4xprn4bG
LOCATION:ZKM Seminarraum
SUMMARY:KiCad Library hacking
CLASS:PUBLIC
DESCRIPTION:https://calendify.com/session/q5D4xprn4bG
DTSTAMP:20260419T223602Z
CREATED:20230527T091821Z
LAST-MODIFIED:20230611T215002Z
END:VEVENT
END:VCALENDAR