BEGIN:VCALENDAR
VERSION:2.0
PRODID:calendify.com
BEGIN:VEVENT
UID:calendify-session-q5D4xq1kObG
DTSTART:20210206T131000Z
SEQUENCE:0
TRANSP:OPAQUE
DTEND:20210206T133500Z
URL:https://calendify.com/session/q5D4xq1kObG
LOCATION:D.rtc
SUMMARY:Why WebRTC is the way it is.
CLASS:PUBLIC
DESCRIPTION:https://calendify.com/session/q5D4xq1kObG
DTSTAMP:20260423T122546Z
CREATED:20210113T115145Z
LAST-MODIFIED:20210208T224803Z
END:VEVENT
END:VCALENDAR