BEGIN:VCALENDAR
VERSION:2.0
PRODID:calendify.com
BEGIN:VEVENT
UID:calendify-session-q5D4xq3LObG
DTSTART:20210207T130000Z
SEQUENCE:0
TRANSP:OPAQUE
DTEND:20210207T134000Z
URL:https://calendify.com/session/q5D4xq3LObG
LOCATION:D.openjdk
SUMMARY:5 Tips to Create Secure Docker Containers for Java Developers
CLASS:PUBLIC
DESCRIPTION:https://calendify.com/session/q5D4xq3LObG
DTSTAMP:20260423T122521Z
CREATED:20210111T170320Z
LAST-MODIFIED:20210208T224804Z
END:VEVENT
END:VCALENDAR