BEGIN:VCALENDAR
VERSION:2.0
PRODID:calendify.com
BEGIN:VEVENT
UID:calendify-session-q5D4xqNyObG
DTSTART:20210206T144500Z
SEQUENCE:0
TRANSP:OPAQUE
DTEND:20210206T160000Z
URL:https://calendify.com/session/q5D4xqNyObG
LOCATION:D.zig
SUMMARY:Mach-O linker in Zig: linking in the era of Apple Silicon
CLASS:PUBLIC
DESCRIPTION:https://calendify.com/session/q5D4xqNyObG
DTSTAMP:20260420T012540Z
CREATED:20210111T170319Z
LAST-MODIFIED:20210208T224803Z
END:VEVENT
END:VCALENDAR