BEGIN:VCALENDAR
VERSION:2.0
PRODID:calendify.com
BEGIN:VEVENT
UID:calendify-session-q5D4xqQxObG
DTSTART:20210207T133000Z
SEQUENCE:0
TRANSP:OPAQUE
DTEND:20210207T140000Z
URL:https://calendify.com/session/q5D4xqQxObG
LOCATION:D.postgresql
SUMMARY:Changing your huge table's data types in production
CLASS:PUBLIC
DESCRIPTION:https://calendify.com/session/q5D4xqQxObG
DTSTAMP:20260419T212243Z
CREATED:20210111T170320Z
LAST-MODIFIED:20210208T224804Z
END:VEVENT
END:VCALENDAR