BEGIN:VCALENDAR
VERSION:2.0
PRODID:calendify.com
BEGIN:VEVENT
UID:calendify-session-q5D4xqaaObG
DTSTART:20210206T141500Z
SEQUENCE:0
TRANSP:OPAQUE
DTEND:20210206T144000Z
URL:https://calendify.com/session/q5D4xqaaObG
LOCATION:D.mariadb
SUMMARY:Creating Vagrant development machines for MariaDB
CLASS:PUBLIC
DESCRIPTION:https://calendify.com/session/q5D4xqaaObG
DTSTAMP:20260419T194809Z
CREATED:20210111T170319Z
LAST-MODIFIED:20210208T224802Z
END:VEVENT
END:VCALENDAR