BEGIN:VCALENDAR
VERSION:2.0
PRODID:calendify.com
BEGIN:VEVENT
UID:calendify-session-q5D4xqxjObG
DTSTART:20201227T155000Z
SEQUENCE:0
TRANSP:OPAQUE
DTEND:20201227T165300Z
URL:https://calendify.com/session/q5D4xqxjObG
LOCATION:classics
SUMMARY:33c3 How Do I Crack Satellite and Cable Pay TV?
CLASS:PUBLIC
DESCRIPTION:https://calendify.com/session/q5D4xqxjObG
DTSTAMP:20260421T171452Z
CREATED:20201230T143302Z
LAST-MODIFIED:20211226T143405Z
END:VEVENT
END:VCALENDAR