BEGIN:VCALENDAR
VERSION:2.0
PRODID:calendify.com
BEGIN:VEVENT
UID:calendify-session-rZEMNA8AOyK
DTSTART:20200201T155000Z
SEQUENCE:0
TRANSP:OPAQUE
DTEND:20200201T161500Z
URL:https://calendify.com/session/rZEMNA8AOyK
LOCATION:H.1302 (Depage)
SUMMARY:Helpful NullPointerExceptions - The little thing that became a JEP
CLASS:PUBLIC
DESCRIPTION:https://calendify.com/session/rZEMNA8AOyK
DTSTAMP:20260424T053229Z
CREATED:20200513T234730Z
LAST-MODIFIED:20210426T093308Z
END:VEVENT
END:VCALENDAR