BEGIN:VCALENDAR
VERSION:2.0
PRODID:calendify.com
BEGIN:VEVENT
UID:calendify-session-rZEMNARDOyK
DTSTART:20190601T160000Z
SEQUENCE:0
TRANSP:OPAQUE
DTEND:20190601T180000Z
URL:https://calendify.com/session/rZEMNARDOyK
LOCATION:ZKM_AckerSpace
SUMMARY:Freifunk Meetup
CLASS:PUBLIC
DESCRIPTION:https://calendify.com/session/rZEMNARDOyK
DTSTAMP:20260424T082048Z
CREATED:20200509T115124Z
LAST-MODIFIED:20200509T115124Z
END:VEVENT
END:VCALENDAR