BEGIN:VCALENDAR
VERSION:2.0
PRODID:calendify.com
BEGIN:VEVENT
UID:calendify-session-rZEMNAZeOyK
DTSTART:20180512T213000Z
SEQUENCE:0
TRANSP:OPAQUE
DTEND:20180512T223000Z
URL:https://calendify.com/session/rZEMNAZeOyK
LOCATION:Lounge
SUMMARY:FlipFloater (Beat)
CLASS:PUBLIC
DESCRIPTION:https://calendify.com/session/rZEMNAZeOyK
DTSTAMP:20260422T031400Z
CREATED:20200513T011828Z
LAST-MODIFIED:20200513T011828Z
END:VEVENT
END:VCALENDAR