BEGIN:VCALENDAR
VERSION:2.0
PRODID:calendify.com
BEGIN:VEVENT
UID:calendify-session-rZEMNAlYOyK
DTSTART:20200507T182500Z
SEQUENCE:0
TRANSP:OPAQUE
DTEND:20200507T185000Z
URL:https://calendify.com/session/rZEMNAlYOyK
LOCATION:ASAP 1
SUMMARY:The Collapse
CLASS:PUBLIC
DESCRIPTION:https://calendify.com/session/rZEMNAlYOyK
DTSTAMP:20260420T143206Z
CREATED:20200504T092954Z
LAST-MODIFIED:20210113T190852Z
END:VEVENT
END:VCALENDAR