BEGIN:VCALENDAR
VERSION:2.0
PRODID:calendify.com
BEGIN:VEVENT
UID:calendify-session-rZEMNAwaOyK
DTSTART:20190530T150000Z
SEQUENCE:0
TRANSP:OPAQUE
DTEND:20190530T153000Z
URL:https://calendify.com/session/rZEMNAwaOyK
LOCATION:HfG_Studio
SUMMARY:Die Vorbereitung und den Besuch eines Chaosevents smart gestalten
CLASS:PUBLIC
DESCRIPTION:https://calendify.com/session/rZEMNAwaOyK
DTSTAMP:20260420T203324Z
CREATED:20200509T115052Z
LAST-MODIFIED:20200509T115052Z
END:VEVENT
END:VCALENDAR