BEGIN:VCALENDAR
VERSION:2.0
PRODID:calendify.com
BEGIN:VEVENT
UID:calendify-session-rZEMNB1eMyK
DTSTART:20210522T160000Z
SEQUENCE:0
TRANSP:OPAQUE
DTEND:20210522T162500Z
URL:https://calendify.com/session/rZEMNB1eMyK
LOCATION:Kanal 1
SUMMARY:Closing Ceremony
CLASS:PUBLIC
DESCRIPTION:https://calendify.com/session/rZEMNB1eMyK
DTSTAMP:20260423T055655Z
CREATED:20210510T145032Z
LAST-MODIFIED:20210524T215002Z
END:VEVENT
END:VCALENDAR