BEGIN:VCALENDAR
VERSION:2.0
PRODID:calendify.com
BEGIN:VEVENT
UID:calendify-session-rZEMNBWnMyK
DTSTART:20211228T130000Z
SEQUENCE:0
TRANSP:OPAQUE
DTEND:20211228T134500Z
URL:https://calendify.com/session/rZEMNBWnMyK
LOCATION:Sendezentrum Bühne
SUMMARY:Zur Lage der Fiktion - Ein Überblick über deutschsprachige Fictio
 n-Podcasts
CLASS:PUBLIC
DESCRIPTION:https://calendify.com/session/rZEMNBWnMyK
DTSTAMP:20260421T182646Z
CREATED:20211220T014017Z
LAST-MODIFIED:20211230T225002Z
END:VEVENT
END:VCALENDAR