BEGIN:VCALENDAR
VERSION:2.0
PRODID:calendify.com
BEGIN:VEVENT
UID:calendify-session-rZEMNBplMyK
DTSTART:20220205T143000Z
SEQUENCE:0
TRANSP:OPAQUE
DTEND:20220205T150000Z
URL:https://calendify.com/session/rZEMNBplMyK
LOCATION:D.libreoffice
SUMMARY:Creating professional templates with LibreOffice Writer
CLASS:PUBLIC
DESCRIPTION:https://calendify.com/session/rZEMNBplMyK
DTSTAMP:20260422T151037Z
CREATED:20220120T214602Z
LAST-MODIFIED:20220206T225002Z
END:VEVENT
END:VCALENDAR