BEGIN:VCALENDAR
VERSION:2.0
PRODID:calendify.com
BEGIN:VEVENT
UID:calendify-session-rZEMNGPlgyK
DTSTART:20241227T181500Z
SEQUENCE:0
TRANSP:OPAQUE
DTEND:20241227T185500Z
URL:https://calendify.com/session/rZEMNGPlgyK
LOCATION:Saal 1
SUMMARY:BioTerrorism Will Save Your Life with the 4 Thieves Vinegar Collect
 ive
CLASS:PUBLIC
DESCRIPTION:https://calendify.com/session/rZEMNGPlgyK
DTSTAMP:20260422T123845Z
CREATED:20241208T214807Z
LAST-MODIFIED:20250101T225002Z
END:VEVENT
END:VCALENDAR