BEGIN:VCALENDAR
VERSION:2.0
PRODID:calendify.com
BEGIN:VEVENT
UID:calendify-session-rZEMNJNQMyK
DTSTART:20171227T114500Z
SEQUENCE:0
TRANSP:OPAQUE
DTEND:20171227T121500Z
URL:https://calendify.com/session/rZEMNJNQMyK
LOCATION:Saal Borg
SUMMARY:Demystifying Network Cards
CLASS:PUBLIC
DESCRIPTION:https://calendify.com/session/rZEMNJNQMyK
DTSTAMP:20260422T001922Z
CREATED:20200625T113327Z
LAST-MODIFIED:20200625T113327Z
END:VEVENT
END:VCALENDAR