BEGIN:VCALENDAR
VERSION:2.0
PRODID:calendify.com
BEGIN:VEVENT
UID:calendify-session-rZEMNJx5MyK
DTSTART:20180401T161500Z
SEQUENCE:0
TRANSP:OPAQUE
DTEND:20180401T171500Z
URL:https://calendify.com/session/rZEMNJx5MyK
LOCATION:Max Planck
SUMMARY:Chaos West auf dem 35C3 - Brainstorming
CLASS:PUBLIC
DESCRIPTION:https://calendify.com/session/rZEMNJx5MyK
DTSTAMP:20260422T205836Z
CREATED:20200520T231946Z
LAST-MODIFIED:20200520T231946Z
END:VEVENT
END:VCALENDAR