BEGIN:VCALENDAR
VERSION:2.0
PRODID:calendify.com
BEGIN:VEVENT
UID:calendify-session-rZEMNN1jMyK
DTSTART:20221230T130000Z
SEQUENCE:0
TRANSP:OPAQUE
DTEND:20221230T160000Z
URL:https://calendify.com/session/rZEMNN1jMyK
LOCATION:Bibliothek +  Siebdruck +  Kleidertausch - H1-2.2
SUMMARY:Bibliothek (ganztags)
CLASS:PUBLIC
DESCRIPTION:https://calendify.com/session/rZEMNN1jMyK
DTSTAMP:20260421T121530Z
CREATED:20221225T150108Z
LAST-MODIFIED:20221230T225007Z
END:VEVENT
END:VCALENDAR