BEGIN:VCALENDAR
VERSION:2.0
PRODID:calendify.com
BEGIN:VEVENT
UID:calendify-session-rZEMNN55MyK
DTSTART:20230610T161500Z
SEQUENCE:0
TRANSP:OPAQUE
DTEND:20230610T171500Z
URL:https://calendify.com/session/rZEMNN55MyK
LOCATION:Vortragssaal
SUMMARY:Lightningtalks
CLASS:PUBLIC
DESCRIPTION:https://calendify.com/session/rZEMNN55MyK
DTSTAMP:20260422T154223Z
CREATED:20230527T091822Z
LAST-MODIFIED:20230611T215002Z
END:VEVENT
END:VCALENDAR