BEGIN:VCALENDAR
VERSION:2.0
PRODID:calendify.com
BEGIN:VEVENT
UID:calendify-session-rZEMNNWRMyK
DTSTART:20230608T191500Z
SEQUENCE:0
TRANSP:OPAQUE
DTEND:20230608T201500Z
URL:https://calendify.com/session/rZEMNNWRMyK
LOCATION:Medientheater
SUMMARY:█████haus - Wtf happened?\, GPN-Edition
CLASS:PUBLIC
DESCRIPTION:https://calendify.com/session/rZEMNNWRMyK
DTSTAMP:20260420T071547Z
CREATED:20230527T091820Z
LAST-MODIFIED:20230611T215002Z
END:VEVENT
END:VCALENDAR