BEGIN:VCALENDAR
VERSION:2.0
PRODID:calendify.com
BEGIN:VEVENT
UID:calendify-session-rZEMNNoeMyK
DTSTART:20230609T140000Z
SEQUENCE:0
TRANSP:OPAQUE
DTEND:20230609T150000Z
URL:https://calendify.com/session/rZEMNNoeMyK
LOCATION:Outdoor-Stage
SUMMARY:cReal
CLASS:PUBLIC
DESCRIPTION:https://calendify.com/session/rZEMNNoeMyK
DTSTAMP:20260420T141517Z
CREATED:20230604T134036Z
LAST-MODIFIED:20230611T215002Z
END:VEVENT
END:VCALENDAR