BEGIN:VCALENDAR
VERSION:2.0
PRODID:calendify.com
BEGIN:VEVENT
UID:calendify-session-rZEMNP1Y4yK
DTSTART:20210207T090000Z
SEQUENCE:0
TRANSP:OPAQUE
DTEND:20210207T093000Z
URL:https://calendify.com/session/rZEMNP1Y4yK
LOCATION:D.hpc
SUMMARY:Deploying Containerized Applications on Secure Large Scale HPC Prod
 uction Systems.
CLASS:PUBLIC
DESCRIPTION:https://calendify.com/session/rZEMNP1Y4yK
DTSTAMP:20260423T184128Z
CREATED:20210111T170320Z
LAST-MODIFIED:20210208T224804Z
END:VEVENT
END:VCALENDAR