BEGIN:VCALENDAR
VERSION:2.0
PRODID:calendify.com
BEGIN:VEVENT
UID:calendify-session-rZEMNP2Q4yK
DTSTART:20210207T160000Z
SEQUENCE:0
TRANSP:OPAQUE
DTEND:20210207T164000Z
URL:https://calendify.com/session/rZEMNP2Q4yK
LOCATION:D.retro
SUMMARY:Ada Lovelace and The Very First Computer Program
CLASS:PUBLIC
DESCRIPTION:https://calendify.com/session/rZEMNP2Q4yK
DTSTAMP:20260419T151908Z
CREATED:20210111T170320Z
LAST-MODIFIED:20210208T224804Z
END:VEVENT
END:VCALENDAR