BEGIN:VCALENDAR
VERSION:2.0
PRODID:calendify.com
BEGIN:VEVENT
UID:calendify-session-rZEMNP8D4yK
DTSTART:20210206T143500Z
SEQUENCE:0
TRANSP:OPAQUE
DTEND:20210206T153000Z
URL:https://calendify.com/session/rZEMNP8D4yK
LOCATION:D.blockchain
SUMMARY:Architecting a Holochain App
CLASS:PUBLIC
DESCRIPTION:https://calendify.com/session/rZEMNP8D4yK
DTSTAMP:20260419T235204Z
CREATED:20210119T190819Z
LAST-MODIFIED:20210208T224802Z
END:VEVENT
END:VCALENDAR