BEGIN:VCALENDAR
VERSION:2.0
PRODID:calendify.com
BEGIN:VEVENT
UID:calendify-session-rZEMNPLn4yK
DTSTART:20210206T144500Z
SEQUENCE:0
TRANSP:OPAQUE
DTEND:20210206T153000Z
URL:https://calendify.com/session/rZEMNPLn4yK
LOCATION:D.openchain
SUMMARY:REUSE
CLASS:PUBLIC
DESCRIPTION:https://calendify.com/session/rZEMNPLn4yK
DTSTAMP:20260420T202148Z
CREATED:20210112T232157Z
LAST-MODIFIED:20210208T224802Z
END:VEVENT
END:VCALENDAR