BEGIN:VCALENDAR
VERSION:2.0
PRODID:calendify.com
BEGIN:VEVENT
UID:calendify-session-rZEMNPP54yK
DTSTART:20210206T160000Z
SEQUENCE:0
TRANSP:OPAQUE
DTEND:20210206T170000Z
URL:https://calendify.com/session/rZEMNPP54yK
LOCATION:D.emulator
SUMMARY:Compute Express Link in QEMU
CLASS:PUBLIC
DESCRIPTION:https://calendify.com/session/rZEMNPP54yK
DTSTAMP:20260424T024715Z
CREATED:20210111T170318Z
LAST-MODIFIED:20210208T224802Z
END:VEVENT
END:VCALENDAR