BEGIN:VCALENDAR
VERSION:2.0
PRODID:calendify.com
BEGIN:VEVENT
UID:calendify-session-rZEMNPQR4yK
DTSTART:20210207T160000Z
SEQUENCE:0
TRANSP:OPAQUE
DTEND:20210207T170000Z
URL:https://calendify.com/session/rZEMNPQR4yK
LOCATION:S.ntop
SUMMARY:Installation Party
CLASS:PUBLIC
DESCRIPTION:https://calendify.com/session/rZEMNPQR4yK
DTSTAMP:20260423T082421Z
CREATED:20210203T141804Z
LAST-MODIFIED:20210208T224804Z
END:VEVENT
END:VCALENDAR