BEGIN:VCALENDAR
VERSION:2.0
PRODID:calendify.com
BEGIN:VEVENT
UID:calendify-session-rZEMNPWa4yK
DTSTART:20210207T140000Z
SEQUENCE:0
TRANSP:OPAQUE
DTEND:20210207T142000Z
URL:https://calendify.com/session/rZEMNPWa4yK
LOCATION:L.lightningtalks
SUMMARY:Contributing beyond Code: My 6 months review
CLASS:PUBLIC
DESCRIPTION:https://calendify.com/session/rZEMNPWa4yK
DTSTAMP:20260423T150631Z
CREATED:20210116T190815Z
LAST-MODIFIED:20210208T224803Z
END:VEVENT
END:VCALENDAR