BEGIN:VCALENDAR
VERSION:2.0
PRODID:calendify.com
BEGIN:VEVENT
UID:calendify-session-rZEMNPje4yK
DTSTART:20210206T101500Z
SEQUENCE:0
TRANSP:OPAQUE
DTEND:20210206T110000Z
URL:https://calendify.com/session/rZEMNPje4yK
LOCATION:D.perl
SUMMARY:Cor - The Future of OO In Perl
CLASS:PUBLIC
DESCRIPTION:https://calendify.com/session/rZEMNPje4yK
DTSTAMP:20260423T214629Z
CREATED:20210111T170319Z
LAST-MODIFIED:20210208T224802Z
END:VEVENT
END:VCALENDAR