BEGIN:VCALENDAR
VERSION:2.0
PRODID:calendify.com
BEGIN:VEVENT
UID:calendify-session-rZEMNRRlMyK
DTSTART:20241228T000000Z
SEQUENCE:0
TRANSP:OPAQUE
DTEND:20241228T004500Z
URL:https://calendify.com/session/rZEMNRRlMyK
LOCATION:SoS Saal E
SUMMARY:I wrote a regex compiler to get better at Super Smash Bros.
CLASS:PUBLIC
DESCRIPTION:https://calendify.com/session/rZEMNRRlMyK
DTSTAMP:20260419T140850Z
CREATED:20241227T172002Z
LAST-MODIFIED:20250101T225002Z
END:VEVENT
END:VCALENDAR