BEGIN:VCALENDAR
VERSION:2.0
PRODID:calendify.com
BEGIN:VEVENT
UID:calendify-session-rZEMNjGDMyK
DTSTART:20161230T103000Z
SEQUENCE:0
TRANSP:OPAQUE
DTEND:20161230T113000Z
URL:https://calendify.com/session/rZEMNjGDMyK
LOCATION:Saal G
SUMMARY:Community
CLASS:PUBLIC
DESCRIPTION:https://calendify.com/session/rZEMNjGDMyK
DTSTAMP:20260420T170810Z
CREATED:20220415T135303Z
LAST-MODIFIED:20220415T135303Z
END:VEVENT
END:VCALENDAR