BEGIN:VCALENDAR
VERSION:2.0
PRODID:calendify.com
BEGIN:VEVENT
UID:calendify-session-rZEMNjL5MyK
DTSTART:20220519T223000Z
SEQUENCE:0
TRANSP:OPAQUE
DTEND:20220520T003000Z
URL:https://calendify.com/session/rZEMNjL5MyK
LOCATION:Musik - Großes Studio
SUMMARY:Piet van Dyke
CLASS:PUBLIC
DESCRIPTION:https://calendify.com/session/rZEMNjL5MyK
DTSTAMP:20260423T154908Z
CREATED:20220507T101657Z
LAST-MODIFIED:20220521T215003Z
END:VEVENT
END:VCALENDAR