BEGIN:VCALENDAR
VERSION:2.0
PRODID:calendify.com
BEGIN:VEVENT
UID:calendify-session-rZEMNjQnMyK
DTSTART:20220608T134500Z
SEQUENCE:0
TRANSP:OPAQUE
DTEND:20220608T141500Z
URL:https://calendify.com/session/rZEMNjQnMyK
LOCATION:Stage 3
SUMMARY:Using State Machinery to Fight Internet Shutdowns
CLASS:PUBLIC
DESCRIPTION:https://calendify.com/session/rZEMNjQnMyK
DTSTAMP:20260423T135517Z
CREATED:20220526T162947Z
LAST-MODIFIED:20220613T235204Z
END:VEVENT
END:VCALENDAR