BEGIN:VCALENDAR
VERSION:2.0
PRODID:calendify.com
BEGIN:VEVENT
UID:calendify-session-rZEMNjYRMyK
DTSTART:20220520T200000Z
SEQUENCE:0
TRANSP:OPAQUE
DTEND:20220520T203000Z
URL:https://calendify.com/session/rZEMNjYRMyK
LOCATION:Blauer Salon
SUMMARY:Testmark: a Markdown Convention for Test Fixtures and Data
CLASS:PUBLIC
DESCRIPTION:https://calendify.com/session/rZEMNjYRMyK
DTSTAMP:20260420T213035Z
CREATED:20220502T005752Z
LAST-MODIFIED:20220521T215002Z
END:VEVENT
END:VCALENDAR