BEGIN:VCALENDAR
VERSION:2.0
PRODID:calendify.com
BEGIN:VEVENT
UID:calendify-session-rZEMNjmjMyK
DTSTART:20220609T140000Z
SEQUENCE:0
TRANSP:OPAQUE
DTEND:20220609T150000Z
URL:https://calendify.com/session/rZEMNjmjMyK
LOCATION:Fabmobil
SUMMARY:The great and cozy Fabmobil Meet Up (2)
CLASS:PUBLIC
DESCRIPTION:https://calendify.com/session/rZEMNjmjMyK
DTSTAMP:20260424T003814Z
CREATED:20220526T162948Z
LAST-MODIFIED:20220613T235204Z
END:VEVENT
END:VCALENDAR