BEGIN:VCALENDAR
VERSION:2.0
PRODID:calendify.com
BEGIN:VEVENT
UID:calendify-session-rZEMNjoQMyK
DTSTART:20220609T153000Z
SEQUENCE:0
TRANSP:OPAQUE
DTEND:20220609T163000Z
URL:https://calendify.com/session/rZEMNjoQMyK
LOCATION:Stage 4
SUMMARY:WiMaF Spezial: Meine Frau hasst die Lindenstraße - LIVE
CLASS:PUBLIC
DESCRIPTION:https://calendify.com/session/rZEMNjoQMyK
DTSTAMP:20260423T174916Z
CREATED:20220526T162946Z
LAST-MODIFIED:20220613T235204Z
END:VEVENT
END:VCALENDAR