BEGIN:VCALENDAR
VERSION:2.0
PRODID:calendify.com
BEGIN:VEVENT
UID:calendify-session-rZEMNjpaMyK
DTSTART:20220609T170000Z
SEQUENCE:0
TRANSP:OPAQUE
DTEND:20220609T190000Z
URL:https://calendify.com/session/rZEMNjpaMyK
LOCATION:The Beach
SUMMARY:Sundowner Session xx Robert Johansson xx Flux FM
CLASS:PUBLIC
DESCRIPTION:https://calendify.com/session/rZEMNjpaMyK
DTSTAMP:20260420T171524Z
CREATED:20220526T162949Z
LAST-MODIFIED:20220613T235205Z
END:VEVENT
END:VCALENDAR