BEGIN:VCALENDAR
VERSION:2.0
PRODID:calendify.com
BEGIN:VEVENT
UID:calendify-session-rZEMNjwDMyK
DTSTART:20161229T130000Z
SEQUENCE:0
TRANSP:OPAQUE
DTEND:20161229T140000Z
URL:https://calendify.com/session/rZEMNjwDMyK
LOCATION:Saal 2
SUMMARY:Dissecting modern (3G/4G) cellular modems
CLASS:PUBLIC
DESCRIPTION:https://calendify.com/session/rZEMNjwDMyK
DTSTAMP:20260422T095914Z
CREATED:20220415T135303Z
LAST-MODIFIED:20220415T135303Z
END:VEVENT
END:VCALENDAR