BEGIN:VCALENDAR
VERSION:2.0
PRODID:calendify.com
BEGIN:VEVENT
UID:calendify-session-rZEMNjxYMyK
DTSTART:20220206T152000Z
SEQUENCE:0
TRANSP:OPAQUE
DTEND:20220206T160000Z
URL:https://calendify.com/session/rZEMNjxYMyK
LOCATION:D.monitoring
SUMMARY:What More Can I Learn From My OpenTelemetry Traces?
CLASS:PUBLIC
DESCRIPTION:https://calendify.com/session/rZEMNjxYMyK
DTSTAMP:20260422T095943Z
CREATED:20220120T214608Z
LAST-MODIFIED:20220206T225004Z
END:VEVENT
END:VCALENDAR