BEGIN:VCALENDAR
VERSION:2.0
PRODID:calendify.com
BEGIN:VEVENT
UID:calendify-session-rZEMNw0AgyK
DTSTART:20230902T130000Z
SEQUENCE:0
TRANSP:OPAQUE
DTEND:20230902T135000Z
URL:https://calendify.com/session/rZEMNw0AgyK
LOCATION:C120 - Arkanraum
SUMMARY:Linux Audit Framework - An Introduction
CLASS:PUBLIC
DESCRIPTION:https://calendify.com/session/rZEMNw0AgyK
DTSTAMP:20260424T133625Z
CREATED:20240328T132702Z
LAST-MODIFIED:20240328T132702Z
END:VEVENT
END:VCALENDAR