BEGIN:VCALENDAR
VERSION:2.0
PRODID:calendify.com
BEGIN:VEVENT
UID:calendify-session-rZEMNwA5gyK
DTSTART:20230715T123000Z
SEQUENCE:0
TRANSP:OPAQUE
DTEND:20230715T143000Z
URL:https://calendify.com/session/rZEMNwA5gyK
LOCATION:Raum 2.10
SUMMARY:Gameboy Advance Spiele programmieren - gerne auch in halbwegs moder
 nem C++
CLASS:PUBLIC
DESCRIPTION:https://calendify.com/session/rZEMNwA5gyK
DTSTAMP:20260420T181242Z
CREATED:20230806T113150Z
LAST-MODIFIED:20230806T113150Z
END:VEVENT
END:VCALENDAR