BEGIN:VCALENDAR
VERSION:2.0
PRODID:calendify.com
BEGIN:VEVENT
UID:calendify-session-rZEMNwKQgyK
DTSTART:20240504T104500Z
SEQUENCE:0
TRANSP:OPAQUE
DTEND:20240504T121500Z
URL:https://calendify.com/session/rZEMNwKQgyK
LOCATION:Kino 4
SUMMARY:vim Anfängerworkshop
CLASS:PUBLIC
DESCRIPTION:https://calendify.com/session/rZEMNwKQgyK
DTSTAMP:20260422T165603Z
CREATED:20240531T124354Z
LAST-MODIFIED:20240531T124354Z
END:VEVENT
END:VCALENDAR